BEGIN:VCALENDAR
VERSION:2.0
PRODID:-//MSC Victoria Lichterfelde e.V. DMV - ECPv6.2.8.2//NONSGML v1.0//EN
CALSCALE:GREGORIAN
METHOD:PUBLISH
X-WR-CALNAME:MSC Victoria Lichterfelde e.V. DMV
X-ORIGINAL-URL:https://msc-victoria.de
X-WR-CALDESC:Veranstaltungen für MSC Victoria Lichterfelde e.V. DMV
REFRESH-INTERVAL;VALUE=DURATION:PT1H
X-Robots-Tag:noindex
X-PUBLISHED-TTL:PT1H
BEGIN:VTIMEZONE
TZID:Europe/Helsinki
BEGIN:DAYLIGHT
TZOFFSETFROM:+0200
TZOFFSETTO:+0300
TZNAME:EEST
DTSTART:20200329T010000
END:DAYLIGHT
BEGIN:STANDARD
TZOFFSETFROM:+0300
TZOFFSETTO:+0200
TZNAME:EET
DTSTART:20201025T010000
END:STANDARD
BEGIN:DAYLIGHT
TZOFFSETFROM:+0200
TZOFFSETTO:+0300
TZNAME:EEST
DTSTART:20210328T010000
END:DAYLIGHT
BEGIN:STANDARD
TZOFFSETFROM:+0300
TZOFFSETTO:+0200
TZNAME:EET
DTSTART:20211031T010000
END:STANDARD
BEGIN:DAYLIGHT
TZOFFSETFROM:+0200
TZOFFSETTO:+0300
TZNAME:EEST
DTSTART:20220327T010000
END:DAYLIGHT
BEGIN:STANDARD
TZOFFSETFROM:+0300
TZOFFSETTO:+0200
TZNAME:EET
DTSTART:20221030T010000
END:STANDARD
BEGIN:DAYLIGHT
TZOFFSETFROM:+0200
TZOFFSETTO:+0300
TZNAME:EEST
DTSTART:20230326T010000
END:DAYLIGHT
BEGIN:STANDARD
TZOFFSETFROM:+0300
TZOFFSETTO:+0200
TZNAME:EET
DTSTART:20231029T010000
END:STANDARD
END:VTIMEZONE
BEGIN:VEVENT
DTSTART;VALUE=DATE:20230927
DTEND;VALUE=DATE:20231002
DTSTAMP:20260421T161415
CREATED:20230116T093919Z
LAST-MODIFIED:20230116T093919Z
UID:4785-1695772800-1696204799@msc-victoria.de
SUMMARY:7. internationale Motorrad Treffen
DESCRIPTION:
URL:https://msc-victoria.de/event/7-internationale-motorrad-treffen/
LOCATION:Schlepzig\, Dorfstr. 41\, Schlepzig\, 15910\, Deutschland
CATEGORIES:intern. Motorrad Treffen,Motorrad,Tourensport
ATTACH;FMTTYPE=image/png:https://msc-victoria.de/wp-content/uploads/2013/10/logo.png
END:VEVENT
BEGIN:VEVENT
DTSTART;VALUE=DATE:20230803
DTEND;VALUE=DATE:20230807
DTSTAMP:20260421T161415
CREATED:20230116T092731Z
LAST-MODIFIED:20230116T092731Z
UID:4773-1691020800-1691366399@msc-victoria.de
SUMMARY:FIM Motocamp in Kaunas / Litauen
DESCRIPTION:
URL:https://msc-victoria.de/event/fim-motocamp-in-kaunas-litauen/
LOCATION:Kaunas\, L. ir S. Sadauskų sodyba\, Kaunas\, 54217\, Lithauen
CATEGORIES:FIM,intern. Motorrad Treffen,Motorrad,Tourensport
ATTACH;FMTTYPE=image/png:https://msc-victoria.de/wp-content/uploads/2017/08/FIM-Logo.png
END:VEVENT
BEGIN:VEVENT
DTSTART;VALUE=DATE:20230707
DTEND;VALUE=DATE:20230710
DTSTAMP:20260421T161415
CREATED:20230306T090428Z
LAST-MODIFIED:20230306T090428Z
UID:4819-1688688000-1688947199@msc-victoria.de
SUMMARY:33. intern. Motorradfreunde Krumbach
DESCRIPTION:
URL:https://msc-victoria.de/event/33-intern-motorradfreunde-krumbach/
LOCATION:Krumbach\, Fabrikstraße\, Lichtenau\, 09244\, Deutschland
CATEGORIES:intern. Motorrad Treffen,Motorrad
ATTACH;FMTTYPE=image/jpeg:https://msc-victoria.de/wp-content/uploads/2019/08/mfk.jpg
END:VEVENT
BEGIN:VEVENT
DTSTART;VALUE=DATE:20230623
DTEND;VALUE=DATE:20230626
DTSTAMP:20260421T161415
CREATED:20230116T091429Z
LAST-MODIFIED:20230116T091429Z
UID:4762-1687478400-1687737599@msc-victoria.de
SUMMARY:FIM Rallye in Zaragosa / Spanien
DESCRIPTION:
URL:https://msc-victoria.de/event/fim-rallye-in-zaragosa-spanien/
LOCATION:Camping Ciudad de Zaragoza\, C. de San Juan Bautista de la Salle\, Zaragoza\, 50012\, Spanien
CATEGORIES:FIM Rally,intern. Motorrad Treffen,Motorrad,Tourensport
ATTACH;FMTTYPE=image/png:https://msc-victoria.de/wp-content/uploads/2017/08/FIM-Logo.png
END:VEVENT
BEGIN:VEVENT
DTSTART;VALUE=DATE:20230617
DTEND;VALUE=DATE:20230620
DTSTAMP:20260421T161415
CREATED:20230116T091836Z
LAST-MODIFIED:20230116T091836Z
UID:4771-1686960000-1687219199@msc-victoria.de
SUMMARY:FIM Meritum in Andorra
DESCRIPTION:
URL:https://msc-victoria.de/event/fim-meritum-in-andorra/
CATEGORIES:FIM,FIM Meritum,intern. Motorrad Treffen,Motorrad,Tourensport
ATTACH;FMTTYPE=image/png:https://msc-victoria.de/wp-content/uploads/2017/08/FIM-Logo.png
END:VEVENT
BEGIN:VEVENT
DTSTART;VALUE=DATE:20230127
DTEND;VALUE=DATE:20230130
DTSTAMP:20260421T161415
CREATED:20230116T093417Z
LAST-MODIFIED:20230116T093417Z
UID:4781-1674777600-1675036799@msc-victoria.de
SUMMARY:BVDM Elefantentreffen
DESCRIPTION:
URL:https://msc-victoria.de/event/bvdm-elefantentreffen/
LOCATION:Thurmansbang\, Thurmansbang-Solla/Loh\, 94169\, Deutschland
CATEGORIES:intern. Motorrad Treffen,Motorrad,Tourensport
ATTACH;FMTTYPE=image/png:https://msc-victoria.de/wp-content/uploads/2022/02/BvdM.png
END:VEVENT
BEGIN:VEVENT
DTSTART;TZID=Europe/Helsinki:20221130T180000
DTEND;TZID=Europe/Helsinki:20221130T213000
DTSTAMP:20260421T161415
CREATED:20220323T120052Z
LAST-MODIFIED:20220323T120052Z
UID:4696-1669831200-1669843800@msc-victoria.de
SUMMARY:Clubabend
DESCRIPTION:
URL:https://msc-victoria.de/event/clubabend-50/
LOCATION:Restaurant Mediterran\, Quarzweg 94\, Berlin\, 12349
CATEGORIES:Club Treffen
END:VEVENT
BEGIN:VEVENT
DTSTART;VALUE=DATE:20221021
DTEND;VALUE=DATE:20221024
DTSTAMP:20260421T161415
CREATED:20220324T095538Z
LAST-MODIFIED:20220324T095538Z
UID:4719-1666310400-1666569599@msc-victoria.de
SUMMARY:XXVI. Motofinish Bohemia
DESCRIPTION:
URL:https://msc-victoria.de/event/xxvi-motofinish-bohemia/
CATEGORIES:Club Treffen,intern. Motorrad Treffen,Motorrad
ATTACH;FMTTYPE=image/jpeg:https://msc-victoria.de/wp-content/uploads/2016/02/Motorrad.jpg
ORGANIZER;CN="Motoclub Bohemia":MAILTO:jappaj@seznam.cz
END:VEVENT
BEGIN:VEVENT
DTSTART;VALUE=DATE:20220928
DTEND;VALUE=DATE:20221003
DTSTAMP:20260421T161415
CREATED:20220213T084844Z
LAST-MODIFIED:20220323T115540Z
UID:4645-1664323200-1664755199@msc-victoria.de
SUMMARY:6. internationale Motorrad Treffen
DESCRIPTION:
URL:https://msc-victoria.de/event/6-internationale-motorrad-treffen/
LOCATION:Spreewald\, Dorfstr. 41\, Schlepzig\, 15910\, Deutschland
CATEGORIES:intern. Motorrad Treffen,Motorrad
ATTACH;FMTTYPE=image/jpeg:https://msc-victoria.de/wp-content/uploads/2016/02/Motorrad.jpg
ORGANIZER;CN="MSC Victoria Lichterfelde e.V. im DMV":MAILTO:msc-victoria@t-online.de
END:VEVENT
BEGIN:VEVENT
DTSTART;VALUE=DATE:20220727
DTEND;VALUE=DATE:20220730
DTSTAMP:20260421T161415
CREATED:20220324T093623Z
LAST-MODIFIED:20220324T093623Z
UID:4698-1658880000-1659139199@msc-victoria.de
SUMMARY:75. FIM Rally Ferropolis/Deutschland
DESCRIPTION:
URL:https://msc-victoria.de/event/75-fim-rally-ferropolis-deutschland/
LOCATION:Ferropolis\, Ferropolisstr. 1\, Gräfenhainichen\, 06773\, Deutschland
CATEGORIES:FIM,FIM Rally,intern. Motorrad Treffen
ATTACH;FMTTYPE=image/png:https://msc-victoria.de/wp-content/uploads/2017/08/FIM-Logo.png
END:VEVENT
BEGIN:VEVENT
DTSTART;VALUE=DATE:20220722
DTEND;VALUE=DATE:20220725
DTSTAMP:20260421T161415
CREATED:20220324T094408Z
LAST-MODIFIED:20220324T094408Z
UID:4705-1658448000-1658707199@msc-victoria.de
SUMMARY:38. FIM Meritum Dänemark
DESCRIPTION:
URL:https://msc-victoria.de/event/38-fim-meritum-daenemark/
LOCATION:Rinkenaes\, Sejrsvej 100\, Grästen\, 6300\, Dänemark
CATEGORIES:FIM,FIM Meritum,intern. Motorrad Treffen,Motorrad
ATTACH;FMTTYPE=image/png:https://msc-victoria.de/wp-content/uploads/2017/08/FIM-Logo.png
END:VEVENT
BEGIN:VEVENT
DTSTART;VALUE=DATE:20220708
DTEND;VALUE=DATE:20220711
DTSTAMP:20260421T161415
CREATED:20220324T094649Z
LAST-MODIFIED:20220324T094649Z
UID:4712-1657238400-1657497599@msc-victoria.de
SUMMARY:32. intern. Motocamp Krumbach
DESCRIPTION:
URL:https://msc-victoria.de/event/32-intern-motocamp-krumbach/
LOCATION:Krumbach\, Fabrikstraße\, Lichtenau\, 09244\, Deutschland
CATEGORIES:Club Treffen,intern. Motorrad Treffen,Motorrad
ATTACH;FMTTYPE=image/jpeg:https://msc-victoria.de/wp-content/uploads/2022/03/76fc6a42-9532-498a-88ff-8882b74bc838.jpg
END:VEVENT
BEGIN:VEVENT
DTSTART;TZID=Europe/Helsinki:20220629T180000
DTEND;TZID=Europe/Helsinki:20220629T213000
DTSTAMP:20260421T161415
CREATED:20220323T115832Z
LAST-MODIFIED:20220323T115832Z
UID:4692-1656525600-1656538200@msc-victoria.de
SUMMARY:Clubabend
DESCRIPTION:
URL:https://msc-victoria.de/event/clubabend-48/
LOCATION:Restaurant Mediterran\, Quarzweg 94\, Berlin\, 12349
CATEGORIES:Club Treffen
END:VEVENT
BEGIN:VEVENT
DTSTART;VALUE=DATE:20220429
DTEND;VALUE=DATE:20220502
DTSTAMP:20260421T161415
CREATED:20220324T095313Z
LAST-MODIFIED:20220324T095313Z
UID:4714-1651190400-1651449599@msc-victoria.de
SUMMARY:XXXII. Motomeeting Blanik
DESCRIPTION:
URL:https://msc-victoria.de/event/xxxii-motomeeting-blanik/
LOCATION:Cechtice\, rekreacni stredisko pod Blanikem\, Cechtice\, 25765\, Tschechische Republik
CATEGORIES:Club Treffen,intern. Motorrad Treffen,Motorrad
ATTACH;FMTTYPE=image/jpeg:https://msc-victoria.de/wp-content/uploads/2016/02/Motorrad.jpg
ORGANIZER;CN="AMK Naceradec":MAILTO:cmf@cmf.cz
END:VEVENT
BEGIN:VEVENT
DTSTART;TZID=Europe/Helsinki:20220330T180000
DTEND;TZID=Europe/Helsinki:20220330T213000
DTSTAMP:20260421T161415
CREATED:20220323T115050Z
LAST-MODIFIED:20220323T115417Z
UID:4686-1648663200-1648675800@msc-victoria.de
SUMMARY:Clubabend
DESCRIPTION:
URL:https://msc-victoria.de/event/clubabend-45/
LOCATION:Restaurant Mediterran\, Quarzweg 94\, Berlin\, 12349
CATEGORIES:Club Treffen
END:VEVENT
BEGIN:VEVENT
DTSTART;TZID=Europe/Helsinki:20220223T180000
DTEND;TZID=Europe/Helsinki:20220223T213000
DTSTAMP:20260421T161415
CREATED:20220323T114516Z
LAST-MODIFIED:20220323T115342Z
UID:4680-1645639200-1645651800@msc-victoria.de
SUMMARY:Clubabend
DESCRIPTION:
URL:https://msc-victoria.de/event/clubabend-43/
LOCATION:Restaurant Mediterran\, Quarzweg 94\, Berlin\, 12349
CATEGORIES:Club Treffen
END:VEVENT
BEGIN:VEVENT
DTSTART;TZID=Europe/Helsinki:20220126T180000
DTEND;TZID=Europe/Helsinki:20220126T213000
DTSTAMP:20260421T161415
CREATED:20220323T114955Z
LAST-MODIFIED:20220323T115309Z
UID:4684-1643220000-1643232600@msc-victoria.de
SUMMARY:Clubabend
DESCRIPTION:
URL:https://msc-victoria.de/event/clubabend-44/
LOCATION:Restaurant Marco Polo\, Beselerstr. 1\, Berlin\, 12249\, Deutschland
CATEGORIES:Club Treffen
END:VEVENT
BEGIN:VEVENT
DTSTART;VALUE=DATE:20210922
DTEND;VALUE=DATE:20210927
DTSTAMP:20260421T161415
CREATED:20210211T093443Z
LAST-MODIFIED:20210211T100617Z
UID:4512-1632268800-1632700799@msc-victoria.de
SUMMARY:5. internationale Motorrad-Treffen des MSC Victoria
DESCRIPTION:
URL:https://msc-victoria.de/event/5-internationale-motorrad-treffen-des-msc-victoria/
LOCATION:Spreewald\, Dorfstr. 41\, Schlepzig\, 15910\, Deutschland
CATEGORIES:Motorrad
ATTACH;FMTTYPE=image/png:https://msc-victoria.de/wp-content/uploads/2013/10/logo.png
ORGANIZER;CN="MSC Victoria Lichterfelde e.V. im DMV":MAILTO:msc-victoria@t-online.de
END:VEVENT
BEGIN:VEVENT
DTSTART;VALUE=DATE:20200925
DTEND;VALUE=DATE:20200928
DTSTAMP:20260421T161415
CREATED:20200203T102510Z
LAST-MODIFIED:20200203T102510Z
UID:4323-1600992000-1601251199@msc-victoria.de
SUMMARY:4. Internationales Motorradtreffen des MSC Victoria Lichterfelde e.V.
DESCRIPTION:
URL:https://msc-victoria.de/event/4-internationales-motorradtreffen-des-msc-victoria-lichterfelde-e-v/
LOCATION:Spreewald\, Dorfstr. 41\, Schlepzig\, 15910\, Deutschland
CATEGORIES:Club Treffen,Motorrad,Tourensport
ATTACH;FMTTYPE=image/png:https://msc-victoria.de/wp-content/uploads/2016/02/m_icon_kl.png
ORGANIZER;CN="MSC Victoria Lichterfelde e.V. im DMV":MAILTO:msc-victoria@t-online.de
END:VEVENT
BEGIN:VEVENT
DTSTART;VALUE=DATE:20200922
DTEND;VALUE=DATE:20200927
DTSTAMP:20260421T161415
CREATED:20200203T102057Z
LAST-MODIFIED:20200401T144827Z
UID:4321-1600732800-1601164799@msc-victoria.de
SUMMARY:FIM Moto Tour de Nation - wurde leider abgesagt!!!
DESCRIPTION:
URL:https://msc-victoria.de/event/fim-moto-tour-de-nation-2/
CATEGORIES:FIM,Motorrad,Tourensport
ATTACH;FMTTYPE=image/png:https://msc-victoria.de/wp-content/uploads/2017/08/FIM-Logo.png
END:VEVENT
BEGIN:VEVENT
DTSTART;TZID=Europe/Helsinki:20200827T183000
DTEND;TZID=Europe/Helsinki:20200827T220000
DTSTAMP:20260421T161415
CREATED:20200203T101741Z
LAST-MODIFIED:20200817T080314Z
UID:4318-1598553000-1598565600@msc-victoria.de
SUMMARY:Clubabend
DESCRIPTION:
URL:https://msc-victoria.de/event/clubabend-42/
LOCATION:Restaurant Marco Polo\, Beselerstr. 1\, Berlin\, 12249\, Deutschland
CATEGORIES:Club Treffen,Tourensport
ATTACH;FMTTYPE=image/png:https://msc-victoria.de/wp-content/uploads/2013/10/logo.png
END:VEVENT
BEGIN:VEVENT
DTSTART;VALUE=DATE:20200729
DTEND;VALUE=DATE:20200801
DTSTAMP:20260421T161415
CREATED:20200203T101032Z
LAST-MODIFIED:20200401T144803Z
UID:4310-1595980800-1596239999@msc-victoria.de
SUMMARY:39. internationales FIM Motocamp - wurde leider abgesagt!!!
DESCRIPTION:
URL:https://msc-victoria.de/event/39-internationales-fim-motocamp/
LOCATION:Haligovce\, Goralsky 188\, Haligovce\, 06534\, Slowakei
CATEGORIES:FIM,Motorrad,Tourensport
ATTACH;FMTTYPE=image/png:https://msc-victoria.de/wp-content/uploads/2017/08/FIM-Logo.png
END:VEVENT
BEGIN:VEVENT
DTSTART;VALUE=DATE:20200703
DTEND;VALUE=DATE:20200706
DTSTAMP:20260421T161415
CREATED:20181216T090405Z
LAST-MODIFIED:20200525T091429Z
UID:3454-1593734400-1593993599@msc-victoria.de
SUMMARY:32. Moto-Camp der Motorradfreunde Krumbach - wurde leider abgesagt!!!
DESCRIPTION:
URL:https://msc-victoria.de/event/31-moto-camp-der-motorradfreunde-krumbach/
LOCATION:Krumbach\, Fabrikstraße\, Lichtenau\, 09244\, Deutschland
CATEGORIES:Motorrad,Tourensport
ATTACH;FMTTYPE=image/png:https://msc-victoria.de/wp-content/uploads/2016/02/m_icon_kl.png
END:VEVENT
BEGIN:VEVENT
DTSTART;VALUE=DATE:20200624
DTEND;VALUE=DATE:20200627
DTSTAMP:20260421T161415
CREATED:20200203T095712Z
LAST-MODIFIED:20200401T144902Z
UID:4302-1592956800-1593215999@msc-victoria.de
SUMMARY:75. FIM Rally - wurde leider abgesagt!!!
DESCRIPTION:
URL:https://msc-victoria.de/event/75-fim-rally/
LOCATION:Foligno\, Via Monte Cucco\, Foligno\, 06034\, Italien
CATEGORIES:FIM,Motorrad,Tourensport
ATTACH;FMTTYPE=image/png:https://msc-victoria.de/wp-content/uploads/2017/08/FIM-Logo.png
END:VEVENT
BEGIN:VEVENT
DTSTART;VALUE=DATE:20200617
DTEND;VALUE=DATE:20200620
DTSTAMP:20260421T161415
CREATED:20200203T095143Z
LAST-MODIFIED:20200401T144934Z
UID:4298-1592352000-1592611199@msc-victoria.de
SUMMARY:38. FIM Rendez-Vous Meritum - wurde leider abgesagt!!!
DESCRIPTION:
URL:https://msc-victoria.de/event/38-fim-rendez-vous-meritum/
LOCATION:Faaker See\, Seeufer Landesstr. 53\, Faak am See\, 9583\, Österreich
CATEGORIES:FIM,Motorrad,Tourensport
ATTACH;FMTTYPE=image/png:https://msc-victoria.de/wp-content/uploads/2017/08/FIM-Logo.png
END:VEVENT
BEGIN:VEVENT
DTSTART;TZID=Europe/Helsinki:20200527T183000
DTEND;TZID=Europe/Helsinki:20200527T220000
DTSTAMP:20260421T161415
CREATED:20200203T093927Z
LAST-MODIFIED:20200512T054652Z
UID:4296-1590604200-1590616800@msc-victoria.de
SUMMARY:Clubabend fällt leider aufgrund der Corona Krise aus!!!
DESCRIPTION:
URL:https://msc-victoria.de/event/clubabend-41/
LOCATION:Restaurant Marco Polo\, Beselerstr. 1\, Berlin\, 12249\, Deutschland
CATEGORIES:Club Treffen
ATTACH;FMTTYPE=image/png:https://msc-victoria.de/wp-content/uploads/2013/10/logo.png
END:VEVENT
BEGIN:VEVENT
DTSTART;VALUE=DATE:20200521
DTEND;VALUE=DATE:20200524
DTSTAMP:20260421T161415
CREATED:20200203T093747Z
LAST-MODIFIED:20200512T054605Z
UID:4293-1590019200-1590278399@msc-victoria.de
SUMMARY:Belgisches Freundschaftstreffen fällt leider aufgrund der Corona Krise aus!!!
DESCRIPTION:
URL:https://msc-victoria.de/event/belgisches-freundschaftstreffen/
LOCATION:Carea Residenz Hotel Harzhöhe\, Triftstr. 25\, Hahnenklee\, 38644\, Deutschland
CATEGORIES:Motorrad
ATTACH;FMTTYPE=image/png:https://msc-victoria.de/wp-content/uploads/2016/02/m_icon_kl.png
ORGANIZER;CN="RAMCE":MAILTO:info@ramce.be
END:VEVENT
BEGIN:VEVENT
DTSTART;VALUE=DATE:20200516
DTEND;VALUE=DATE:20200518
DTSTAMP:20260421T161415
CREATED:20171213T164914Z
LAST-MODIFIED:20200512T054513Z
UID:2975-1589587200-1589759999@msc-victoria.de
SUMMARY:33. Intern. AMC St. Vith Motorradtreffen fällt leider aufgrund der Corona Krise aus!!!!
DESCRIPTION:
URL:https://msc-victoria.de/event/31-intern-amc-motorradtreffen/
LOCATION:Skihütte-Biermuseum\, Tomberg 77\, Rodt\, St. Vith\, 4780\, Belgien
CATEGORIES:Motorrad,Tourensport
ATTACH;FMTTYPE=image/png:https://msc-victoria.de/wp-content/uploads/2016/02/m_icon_kl.png
END:VEVENT
BEGIN:VEVENT
DTSTART;VALUE=DATE:20200508
DTEND;VALUE=DATE:20200511
DTSTAMP:20260421T161415
CREATED:20181216T085204Z
LAST-MODIFIED:20200401T145004Z
UID:3432-1588896000-1589155199@msc-victoria.de
SUMMARY:14. Wildschwein Treffen - wurde leider abgesagt!!!
DESCRIPTION:
URL:https://msc-victoria.de/event/wildschwein-treffen/
LOCATION:Blueberry Fields Koersel\, Schomstraat 145\, Koersel\, 3582\, Belgien
CATEGORIES:Motorrad,Tourensport
ATTACH;FMTTYPE=image/png:https://msc-victoria.de/wp-content/uploads/2016/02/m_icon_kl.png
ORGANIZER;CN="Wildschwein":MAILTO:wildschwein007@hotmail.com
END:VEVENT
BEGIN:VEVENT
DTSTART;TZID=Europe/Helsinki:20200429T183000
DTEND;TZID=Europe/Helsinki:20200429T220000
DTSTAMP:20260421T161415
CREATED:20200203T092954Z
LAST-MODIFIED:20200320T082023Z
UID:4287-1588185000-1588197600@msc-victoria.de
SUMMARY:Clubabend fällt aufgrund der Corona Krise aus!!!
DESCRIPTION:
URL:https://msc-victoria.de/event/clubabend-35/
LOCATION:Restaurant Marco Polo\, Beselerstr. 1\, Berlin\, 12249\, Deutschland
CATEGORIES:Club Treffen,Tourensport
ATTACH;FMTTYPE=image/png:https://msc-victoria.de/wp-content/uploads/2013/10/logo.png
END:VEVENT
END:VCALENDAR